BEGIN:VCALENDAR
VERSION:2.0
PRODID:-//Goole 200  - ECPv6.15.20//NONSGML v1.0//EN
CALSCALE:GREGORIAN
METHOD:PUBLISH
X-WR-CALNAME:Goole 200 
X-ORIGINAL-URL:https://www.goole200.org.uk
X-WR-CALDESC:Events for Goole 200 
REFRESH-INTERVAL;VALUE=DURATION:PT1H
X-Robots-Tag:noindex
X-PUBLISHED-TTL:PT1H
BEGIN:VTIMEZONE
TZID:Europe/London
BEGIN:DAYLIGHT
TZOFFSETFROM:+0000
TZOFFSETTO:+0100
TZNAME:BST
DTSTART:20250330T010000
END:DAYLIGHT
BEGIN:STANDARD
TZOFFSETFROM:+0100
TZOFFSETTO:+0000
TZNAME:GMT
DTSTART:20251026T010000
END:STANDARD
BEGIN:DAYLIGHT
TZOFFSETFROM:+0000
TZOFFSETTO:+0100
TZNAME:BST
DTSTART:20260329T010000
END:DAYLIGHT
BEGIN:STANDARD
TZOFFSETFROM:+0100
TZOFFSETTO:+0000
TZNAME:GMT
DTSTART:20261025T010000
END:STANDARD
BEGIN:DAYLIGHT
TZOFFSETFROM:+0000
TZOFFSETTO:+0100
TZNAME:BST
DTSTART:20270328T010000
END:DAYLIGHT
BEGIN:STANDARD
TZOFFSETFROM:+0100
TZOFFSETTO:+0000
TZNAME:GMT
DTSTART:20271031T010000
END:STANDARD
END:VTIMEZONE
BEGIN:VEVENT
DTSTART;VALUE=DATE:20260321
DTEND;VALUE=DATE:20260517
DTSTAMP:20260419T133231
CREATED:20251215T134852Z
LAST-MODIFIED:20251215T134852Z
UID:362-1774051200-1778975999@www.goole200.org.uk
SUMMARY:Bicentenary Open Art Exhibition
DESCRIPTION:Goole Museum’s annual Open Art Exhibition showcases a wealth of talent from local and regional artists. This year’s event has a special bicentenary theme\, with a dedicated section for artwork\, which celebrates Goole’s rich heritage and culture. \nFor lovers of art\, this is a must-see exhibition. Go along to the museum and be inspired\, or simply enjoy the art. There are traditional landscapes\, alongside abstract art\, portraits\, textiles and sculptures. \nFor some visitors this could be a fantastic opportunity to purchase an original piece of art for yourself or someone special. You can also vote for your favourite piece of artwork in the People’s Choice Award\, with the winning artist receiving a prize. 
URL:https://www.goole200.org.uk/event/bicentenary-open-art-exhibition/
LOCATION:Goole Museum\, Carlisle Street\, Goole\, East Riding of Yorkshire\, DN14 5DS\, United Kingdom
CATEGORIES:Art,Exhibition
ATTACH;FMTTYPE=image/webp:https://www.goole200.org.uk/wp-content/uploads/2025/12/Open-Art.webp
ORGANIZER;CN="East Riding Museums":MAILTO:goole.museum@eastriding.gov.uk
END:VEVENT
BEGIN:VEVENT
DTSTART;TZID=Europe/London:20260409T103000
DTEND;TZID=Europe/London:20260409T143000
DTSTAMP:20260419T133231
CREATED:20260303T104911Z
LAST-MODIFIED:20260303T105105Z
UID:654-1775730600-1775745000@www.goole200.org.uk
SUMMARY:Lego Brick Buildings Workshop
DESCRIPTION:The theme of Goole Museum’s second free\, drop-in Lego workshop of the Easter holidays is Lego Brick Buildings. \nAs it’s Goole’s bicentenary year\, workshop leader Lego Ken will help participants recreate some of the town’s best-known buildings\, built during the last 200 years. \nWill you build a lego version of the Burton’s factory or The Lowther Hotel? Go along and get building! \n\nThis workshop is aimed at children aged five to 11 years and their families.
URL:https://www.goole200.org.uk/event/lego-workshop-brick-buildings/
LOCATION:Goole Museum\, Carlisle Street\, Goole\, East Riding of Yorkshire\, DN14 5DS\, United Kingdom
CATEGORIES:Events for children,Family events
ATTACH;FMTTYPE=image/webp:https://www.goole200.org.uk/wp-content/uploads/2025/12/IMG_2443.webp
ORGANIZER;CN="East Riding Museums":MAILTO:goole.museum@eastriding.gov.uk
END:VEVENT
END:VCALENDAR