BEGIN:VCALENDAR
VERSION:2.0
PRODID:-//Goole 200  - ECPv6.15.20//NONSGML v1.0//EN
CALSCALE:GREGORIAN
METHOD:PUBLISH
X-WR-CALNAME:Goole 200 
X-ORIGINAL-URL:https://www.goole200.org.uk
X-WR-CALDESC:Events for Goole 200 
REFRESH-INTERVAL;VALUE=DURATION:PT1H
X-Robots-Tag:noindex
X-PUBLISHED-TTL:PT1H
BEGIN:VTIMEZONE
TZID:Europe/London
BEGIN:DAYLIGHT
TZOFFSETFROM:+0000
TZOFFSETTO:+0100
TZNAME:BST
DTSTART:20250330T010000
END:DAYLIGHT
BEGIN:STANDARD
TZOFFSETFROM:+0100
TZOFFSETTO:+0000
TZNAME:GMT
DTSTART:20251026T010000
END:STANDARD
BEGIN:DAYLIGHT
TZOFFSETFROM:+0000
TZOFFSETTO:+0100
TZNAME:BST
DTSTART:20260329T010000
END:DAYLIGHT
BEGIN:STANDARD
TZOFFSETFROM:+0100
TZOFFSETTO:+0000
TZNAME:GMT
DTSTART:20261025T010000
END:STANDARD
BEGIN:DAYLIGHT
TZOFFSETFROM:+0000
TZOFFSETTO:+0100
TZNAME:BST
DTSTART:20270328T010000
END:DAYLIGHT
BEGIN:STANDARD
TZOFFSETFROM:+0100
TZOFFSETTO:+0000
TZNAME:GMT
DTSTART:20271031T010000
END:STANDARD
END:VTIMEZONE
BEGIN:VEVENT
DTSTART;VALUE=DATE:20260523
DTEND;VALUE=DATE:20260705
DTSTAMP:20260419T164733
CREATED:20251215T135402Z
LAST-MODIFIED:20260417T130414Z
UID:365-1779494400-1783209599@www.goole200.org.uk
SUMMARY:Goole 200: A History Of Goole In 200 Objects
DESCRIPTION:This exhibition explores two centuries of Goole’s rich history through 200 weird and wonderful objects from Goole Museum’s collections. \nNearly all of the artefacts on display were donated by members of the local community\, so this exhibition is very much a people’s history of Goole. \nSome of these fascinating artefacts tell the story of Goole’s origins and growth as port\, alongside the development of other industries such as shipbuilding\, alum working and clothes manufacturing. Others are more personal\, everyday items and provide a window into childhood\, home-life\, healthcare and recreation in Goole. \nIn contrast\, several objects shed light on the more dramatic episodes in Goole’s past\, including the World Wars and grand public celebrations.  Look out for the ‘spotlight’ objects\, which are artefacts that tell a particularly special story.
URL:https://www.goole200.org.uk/event/goole-200-a-history-of-goole-in-200-objects/
LOCATION:Goole Museum\, Carlisle Street\, Goole\, East Riding of Yorkshire\, DN14 5DS\, United Kingdom
CATEGORIES:Exhibition,Heritage events
ATTACH;FMTTYPE=image/webp:https://www.goole200.org.uk/wp-content/uploads/2025/12/Goole-200.webp
ORGANIZER;CN="East Riding Museums":MAILTO:goole.museum@eastriding.gov.uk
END:VEVENT
BEGIN:VEVENT
DTSTART;VALUE=DATE:20260703
DTEND;VALUE=DATE:20260704
DTSTAMP:20260419T164733
CREATED:20260407T124529Z
LAST-MODIFIED:20260407T124529Z
UID:725-1783036800-1783123199@www.goole200.org.uk
SUMMARY:Junction Goole Arting Classes: Lino Print
DESCRIPTION:Arting is Junction Goole’s relaxed and sociable series of adult art classes and\, for 2026\, these sessions will have a ‘Goole 200’ theme. \nTwo two-hour sessions take place on each date – one at 3pm and one at 6pm. All materials\, as well as light refreshments and a finished piece to take home\, are provided. Visit the event website for booking details and more information. \nOn Friday 3 July\, participants will learn how to cut and print their own lino design\, inspired by the intricate details of Goole’s historic buildings.
URL:https://www.goole200.org.uk/event/junction-goole-arting-classes-lino-print/
LOCATION:Junction Goole\, Paradise Place\, Goole\, East Riding of Yorkshire\, DN14 5DL\, United Kingdom
CATEGORIES:Art,Community
ATTACH;FMTTYPE=image/webp:https://www.goole200.org.uk/wp-content/uploads/2026/04/481216583_514705628341662_6977289485062619613_n.webp
ORGANIZER;CN="Junction Goole":MAILTO:info@junctiongoole.co.uk
END:VEVENT
END:VCALENDAR