BEGIN:VCALENDAR
VERSION:2.0
PRODID:-//Goole 200  - ECPv6.15.20//NONSGML v1.0//EN
CALSCALE:GREGORIAN
METHOD:PUBLISH
X-WR-CALNAME:Goole 200 
X-ORIGINAL-URL:https://www.goole200.org.uk
X-WR-CALDESC:Events for Goole 200 
REFRESH-INTERVAL;VALUE=DURATION:PT1H
X-Robots-Tag:noindex
X-PUBLISHED-TTL:PT1H
BEGIN:VTIMEZONE
TZID:Europe/London
BEGIN:DAYLIGHT
TZOFFSETFROM:+0000
TZOFFSETTO:+0100
TZNAME:BST
DTSTART:20250330T010000
END:DAYLIGHT
BEGIN:STANDARD
TZOFFSETFROM:+0100
TZOFFSETTO:+0000
TZNAME:GMT
DTSTART:20251026T010000
END:STANDARD
BEGIN:DAYLIGHT
TZOFFSETFROM:+0000
TZOFFSETTO:+0100
TZNAME:BST
DTSTART:20260329T010000
END:DAYLIGHT
BEGIN:STANDARD
TZOFFSETFROM:+0100
TZOFFSETTO:+0000
TZNAME:GMT
DTSTART:20261025T010000
END:STANDARD
BEGIN:DAYLIGHT
TZOFFSETFROM:+0000
TZOFFSETTO:+0100
TZNAME:BST
DTSTART:20270328T010000
END:DAYLIGHT
BEGIN:STANDARD
TZOFFSETFROM:+0100
TZOFFSETTO:+0000
TZNAME:GMT
DTSTART:20271031T010000
END:STANDARD
END:VTIMEZONE
BEGIN:VEVENT
DTSTART;TZID=Europe/London:20260220T100000
DTEND;TZID=Europe/London:20260220T150000
DTSTAMP:20260419T191357
CREATED:20260114T111322Z
LAST-MODIFIED:20260114T111519Z
UID:553-1771581600-1771599600@www.goole200.org.uk
SUMMARY:Creative Painting Sessions For Children
DESCRIPTION:Children of all ages are invited to attend one of two creative painting sessions led by a local artist\, which are taking place at Goole Museum during the school half-term holiday.\nDrawing inspiration directly from Goole Museum’s weird and wonderful objects and artefacts\, the sessions are an opportunity for budding young artists to sharpen their drawing skills\, learn about colour and create their own still life masterpieces to be exhibited in the gallery.\nIf they wish to\, children who take part in these sessions will be able to submit their artwork into Goole Museum’s 2026 Open Art competition. If their artwork is selected by the judges\, it will be displayed in this year’s special Bicentenary Open Art Exhibition.\nNo experience is required as participants will be led through every stage of the process\, and everyone is welcome.\nThe first session\, from 10am to 12 noon\, is for children under 11 years of age.\nThe second session\, from 1pm to 3pm\, is for children aged 11 years and above.\nTo book your child’s place\, please email goole.museum@eastriding.gov.uk or telephone 01405 768963.
URL:https://www.goole200.org.uk/event/creative-painting-sessions-for-children/
LOCATION:Goole Museum\, Carlisle Street\, Goole\, East Riding of Yorkshire\, DN14 5DS\, United Kingdom
CATEGORIES:Art,Events for children
ATTACH;FMTTYPE=image/webp:https://www.goole200.org.uk/wp-content/uploads/2025/12/IMG_2443.webp
ORGANIZER;CN="East Riding Museums":MAILTO:goole.museum@eastriding.gov.uk
END:VEVENT
BEGIN:VEVENT
DTSTART;TZID=Europe/London:20260219T103000
DTEND;TZID=Europe/London:20260219T140000
DTSTAMP:20260419T191357
CREATED:20260123T142534Z
LAST-MODIFIED:20260123T142857Z
UID:564-1771497000-1771509600@www.goole200.org.uk
SUMMARY:Lego workshop: Shipbuilding
DESCRIPTION:To tie in with Goole Museum’s special bicentenary exhibition Goole-Built: The Story of Goole Shipyard\, the theme of this FREE\, half-term\, drop-in Lego workshop is shipbuilding.\nJoin master shipbuilder ‘Lego Ken’ to create some super ships and brilliant boats.\nThere’s no need to book\, simply turn up and get building!
URL:https://www.goole200.org.uk/event/lego-workshop-shipbuilding/
LOCATION:Goole Museum\, Carlisle Street\, Goole\, East Riding of Yorkshire\, DN14 5DS\, United Kingdom
CATEGORIES:Events for children,Family events
ATTACH;FMTTYPE=image/webp:https://www.goole200.org.uk/wp-content/uploads/2025/12/IMG_2443.webp
ORGANIZER;CN="East Riding Museums":MAILTO:goole.museum@eastriding.gov.uk
END:VEVENT
BEGIN:VEVENT
DTSTART;TZID=Europe/London:20260124T143000
DTEND;TZID=Europe/London:20260124T163000
DTSTAMP:20260419T191357
CREATED:20251215T140043Z
LAST-MODIFIED:20260112T095905Z
UID:351-1769265000-1769272200@www.goole200.org.uk
SUMMARY:Goole On Film - SOLD OUT!
DESCRIPTION:*Both performances of this event are now SOLD OUT! \nCelebrate 200 years of heritage and history\, with this showcase of Goole on film. \nGoole Civic Society is showing historic films of Goole at Junction Goole as its launch event for the town’s bicentenary celebrations. \nSourced from several collections\, including the Yorkshire Film Archive and Pathe News collection\, the event will showcase a series of films featuring Goole from the 1920s through to the 1980s. \nIt will also include the premiere of two specially-commissioned projects for Goole’s bicentenary year: \n\n A recording of Advance! Goole\, the town’s centenary song\, performed by The Warblers.\nAn Aerial History of the Knottingley & Goole Canal.\n\nThere will be two showings of the films – the first at 2.30pm and another at 6.30pm. Click on the link provided to purchase tickets from Junction Goole. \n* Please note that the films are shown as a historic record and their quality reflects the time of their creation. \n 
URL:https://www.goole200.org.uk/event/goole-on-film/
LOCATION:Junction Goole\, Paradise Place\, Goole\, East Riding of Yorkshire\, DN14 5DL\, United Kingdom
CATEGORIES:Entertainment,Film showing,Heritage events,Music
ATTACH;FMTTYPE=image/webp:https://www.goole200.org.uk/wp-content/uploads/2025/12/608645327_1288733246614139_8012443187976960977_n.webp
END:VEVENT
BEGIN:VEVENT
DTSTART;TZID=Europe/London:20260121T130000
DTEND;TZID=Europe/London:20260121T150000
DTSTAMP:20260419T191357
CREATED:20251223T110759Z
LAST-MODIFIED:20260120T112408Z
UID:520-1769000400-1769007600@www.goole200.org.uk
SUMMARY:Coat Of Arms Community Art Session
DESCRIPTION:Local artist Janet Porter is leading two community art sessions at Goole Museum to create a large wall hanging inspired by Goole’s coat of arms. \nThe FREE sessions will take place on Wednesday 21 and Friday 23 January\, from 1pm to 3pm\, and everyone is welcome to go along and take part. \nJanet Porter\, of Bungalow Arts in Victoria Street\, Goole\, said: “The Goole coat of arms with the Vikings is stunning and I think it will be exciting to involve the community in turning it into a colourful collage using paint and fabric.” \nIf more time is needed\, the project will continue the following Wednesday and Friday afternoons at the same times. Anyone who would like to take part is asked to register their interest by emailing janetporter789@gmail.com or texting 07939 032224. \nThis project is one of many that the Goole 2026 Bicentenary Community Group is co-ordinating during 2026.
URL:https://www.goole200.org.uk/event/coat-of-arms-community-art-session/
LOCATION:Goole Museum\, Carlisle Street\, Goole\, East Riding of Yorkshire\, DN14 5DS\, United Kingdom
CATEGORIES:Art,Community,Heritage events
ATTACH;FMTTYPE=image/webp:https://www.goole200.org.uk/wp-content/uploads/2025/12/599498823_122271700094192863_4344926605492342506_n-1.webp
END:VEVENT
BEGIN:VEVENT
DTSTART;TZID=Europe/London:20260105T180000
DTEND;TZID=Europe/London:20260105T193000
DTSTAMP:20260419T191357
CREATED:20251215T122511Z
LAST-MODIFIED:20251215T122625Z
UID:282-1767636000-1767641400@www.goole200.org.uk
SUMMARY:Friends of West Park planning meeting
DESCRIPTION:Friends of West Park will be holding a funding and events planning meeting at the West Park Cafe from 6pm onwards. \nGo along to share your plans for 2026\, help them fundraise and play your part in making it a memorable year for the town.
URL:https://www.goole200.org.uk/event/friends-of-west-park-planning-meeting/
LOCATION:West Park\, Airmyn Road\, Goole\, DN14 6UU\, United Kingdom
CATEGORIES:Meeting
ATTACH;FMTTYPE=image/webp:https://www.goole200.org.uk/wp-content/uploads/2025/12/GTC-West-Park.webp
ORGANIZER;CN="Friends of West Park":MAILTO:friendsofwestpark@outlook.com
END:VEVENT
END:VCALENDAR