BEGIN:VCALENDAR
VERSION:2.0
PRODID:-//Goole 200  - ECPv6.15.20//NONSGML v1.0//EN
CALSCALE:GREGORIAN
METHOD:PUBLISH
X-WR-CALNAME:Goole 200 
X-ORIGINAL-URL:https://www.goole200.org.uk
X-WR-CALDESC:Events for Goole 200 
REFRESH-INTERVAL;VALUE=DURATION:PT1H
X-Robots-Tag:noindex
X-PUBLISHED-TTL:PT1H
BEGIN:VTIMEZONE
TZID:Europe/London
BEGIN:DAYLIGHT
TZOFFSETFROM:+0000
TZOFFSETTO:+0100
TZNAME:BST
DTSTART:20250330T010000
END:DAYLIGHT
BEGIN:STANDARD
TZOFFSETFROM:+0100
TZOFFSETTO:+0000
TZNAME:GMT
DTSTART:20251026T010000
END:STANDARD
BEGIN:DAYLIGHT
TZOFFSETFROM:+0000
TZOFFSETTO:+0100
TZNAME:BST
DTSTART:20260329T010000
END:DAYLIGHT
BEGIN:STANDARD
TZOFFSETFROM:+0100
TZOFFSETTO:+0000
TZNAME:GMT
DTSTART:20261025T010000
END:STANDARD
BEGIN:DAYLIGHT
TZOFFSETFROM:+0000
TZOFFSETTO:+0100
TZNAME:BST
DTSTART:20270328T010000
END:DAYLIGHT
BEGIN:STANDARD
TZOFFSETFROM:+0100
TZOFFSETTO:+0000
TZNAME:GMT
DTSTART:20271031T010000
END:STANDARD
END:VTIMEZONE
BEGIN:VEVENT
DTSTART;VALUE=DATE:20260110
DTEND;VALUE=DATE:20260315
DTSTAMP:20260419T175127
CREATED:20251215T134319Z
LAST-MODIFIED:20251215T134319Z
UID:353-1768003200-1773532799@www.goole200.org.uk
SUMMARY:Goole-Built: The story of Goole Shipyard
DESCRIPTION:This fascinating exhibition tells the story of Goole’s shipyard and its workers during the twentieth century\, tracing the history of the yard from its Edwardian origins\, through the struggles of the 1960s and 1970s\, to its final closure in 1987. It also shares the stories of the everyday working lives and experiences of the last generation of Goole shipyard workers\, through their own words\, personal photos and objects.
URL:https://www.goole200.org.uk/event/goole-built-the-story-of-goole-shipyard/
LOCATION:Goole Museum\, Carlisle Street\, Goole\, East Riding of Yorkshire\, DN14 5DS\, United Kingdom
CATEGORIES:Exhibition,Heritage events
ATTACH;FMTTYPE=image/webp:https://www.goole200.org.uk/wp-content/uploads/2025/12/Goole-Built.webp
ORGANIZER;CN="East Riding Museums":MAILTO:goole.museum@eastriding.gov.uk
END:VEVENT
BEGIN:VEVENT
DTSTART;TZID=Europe/London:20260105T180000
DTEND;TZID=Europe/London:20260105T193000
DTSTAMP:20260419T175127
CREATED:20251215T122511Z
LAST-MODIFIED:20251215T122625Z
UID:282-1767636000-1767641400@www.goole200.org.uk
SUMMARY:Friends of West Park planning meeting
DESCRIPTION:Friends of West Park will be holding a funding and events planning meeting at the West Park Cafe from 6pm onwards. \nGo along to share your plans for 2026\, help them fundraise and play your part in making it a memorable year for the town.
URL:https://www.goole200.org.uk/event/friends-of-west-park-planning-meeting/
LOCATION:West Park\, Airmyn Road\, Goole\, DN14 6UU\, United Kingdom
CATEGORIES:Meeting
ATTACH;FMTTYPE=image/webp:https://www.goole200.org.uk/wp-content/uploads/2025/12/GTC-West-Park.webp
ORGANIZER;CN="Friends of West Park":MAILTO:friendsofwestpark@outlook.com
END:VEVENT
END:VCALENDAR