BEGIN:VCALENDAR
VERSION:2.0
PRODID:-//Goole 200  - ECPv6.15.20//NONSGML v1.0//EN
CALSCALE:GREGORIAN
METHOD:PUBLISH
X-WR-CALNAME:Goole 200 
X-ORIGINAL-URL:https://www.goole200.org.uk
X-WR-CALDESC:Events for Goole 200 
REFRESH-INTERVAL;VALUE=DURATION:PT1H
X-Robots-Tag:noindex
X-PUBLISHED-TTL:PT1H
BEGIN:VTIMEZONE
TZID:Europe/London
BEGIN:DAYLIGHT
TZOFFSETFROM:+0000
TZOFFSETTO:+0100
TZNAME:BST
DTSTART:20250330T010000
END:DAYLIGHT
BEGIN:STANDARD
TZOFFSETFROM:+0100
TZOFFSETTO:+0000
TZNAME:GMT
DTSTART:20251026T010000
END:STANDARD
BEGIN:DAYLIGHT
TZOFFSETFROM:+0000
TZOFFSETTO:+0100
TZNAME:BST
DTSTART:20260329T010000
END:DAYLIGHT
BEGIN:STANDARD
TZOFFSETFROM:+0100
TZOFFSETTO:+0000
TZNAME:GMT
DTSTART:20261025T010000
END:STANDARD
BEGIN:DAYLIGHT
TZOFFSETFROM:+0000
TZOFFSETTO:+0100
TZNAME:BST
DTSTART:20270328T010000
END:DAYLIGHT
BEGIN:STANDARD
TZOFFSETFROM:+0100
TZOFFSETTO:+0000
TZNAME:GMT
DTSTART:20271031T010000
END:STANDARD
END:VTIMEZONE
BEGIN:VEVENT
DTSTART;VALUE=DATE:20260321
DTEND;VALUE=DATE:20260517
DTSTAMP:20260419T133005
CREATED:20251215T134852Z
LAST-MODIFIED:20251215T134852Z
UID:362-1774051200-1778975999@www.goole200.org.uk
SUMMARY:Bicentenary Open Art Exhibition
DESCRIPTION:Goole Museum’s annual Open Art Exhibition showcases a wealth of talent from local and regional artists. This year’s event has a special bicentenary theme\, with a dedicated section for artwork\, which celebrates Goole’s rich heritage and culture. \nFor lovers of art\, this is a must-see exhibition. Go along to the museum and be inspired\, or simply enjoy the art. There are traditional landscapes\, alongside abstract art\, portraits\, textiles and sculptures. \nFor some visitors this could be a fantastic opportunity to purchase an original piece of art for yourself or someone special. You can also vote for your favourite piece of artwork in the People’s Choice Award\, with the winning artist receiving a prize. 
URL:https://www.goole200.org.uk/event/bicentenary-open-art-exhibition/
LOCATION:Goole Museum\, Carlisle Street\, Goole\, East Riding of Yorkshire\, DN14 5DS\, United Kingdom
CATEGORIES:Art,Exhibition
ATTACH;FMTTYPE=image/webp:https://www.goole200.org.uk/wp-content/uploads/2025/12/Open-Art.webp
ORGANIZER;CN="East Riding Museums":MAILTO:goole.museum@eastriding.gov.uk
END:VEVENT
BEGIN:VEVENT
DTSTART;VALUE=DATE:20260501
DTEND;VALUE=DATE:20260502
DTSTAMP:20260419T133005
CREATED:20260407T115039Z
LAST-MODIFIED:20260407T115648Z
UID:711-1777593600-1777679999@www.goole200.org.uk
SUMMARY:Junction Goole Arting Classes: Delft Tile Painting
DESCRIPTION:Arting is Junction Goole’s relaxed and sociable series of adult art classes and\, for 2026\, these sessions will have a ‘Goole 200’ theme. \nTwo two-hour sessions take place on each date – one at 3pm and one at 6pm. All materials\, as well as light refreshments and a finished piece to take home\, are provided. \nOn Friday 1 May\, participants will paint a Dutch Delft-style blue and white tile inspired by Goole’s rich maritime history. \nVisit the event link for further details and booking information.
URL:https://www.goole200.org.uk/event/junction-goole-arting-classes-delft-tile-painting/
LOCATION:Junction Goole\, Paradise Place\, Goole\, East Riding of Yorkshire\, DN14 5DL\, United Kingdom
CATEGORIES:Art,Community
ATTACH;FMTTYPE=image/webp:https://www.goole200.org.uk/wp-content/uploads/2026/04/481216583_514705628341662_6977289485062619613_n.webp
ORGANIZER;CN="Junction Goole":MAILTO:info@junctiongoole.co.uk
END:VEVENT
BEGIN:VEVENT
DTSTART;VALUE=DATE:20260504
DTEND;VALUE=DATE:20260505
DTSTAMP:20260419T133005
CREATED:20251215T123608Z
LAST-MODIFIED:20251216T093907Z
UID:304-1777852800-1777939199@www.goole200.org.uk
SUMMARY:Teddy Bears' Picnic And Maypole Celebration
DESCRIPTION:Friends of West Park will be hosting a Teddy Bears’ Picnic and Maypole Celebration event on the first Bank Holiday Monday in May. The timings will be confirmed nearer the date. Everyone is welcome. You can also follow Friends of West Park’s Facebook page for more information.
URL:https://www.goole200.org.uk/event/teddy-bears-picnic-and-maypole-celebration/
LOCATION:West Park\, Airmyn Road\, Goole\, DN14 6UU\, United Kingdom
CATEGORIES:Community,Family events
ATTACH;FMTTYPE=image/webp:https://www.goole200.org.uk/wp-content/uploads/2025/12/503129553_1108454557982917_2525038488980425406_n.webp
ORGANIZER;CN="Friends of West Park":MAILTO:friendsofwestpark@outlook.com
END:VEVENT
BEGIN:VEVENT
DTSTART;VALUE=DATE:20260508
DTEND;VALUE=DATE:20260509
DTSTAMP:20260419T133005
CREATED:20260407T115424Z
LAST-MODIFIED:20260407T115529Z
UID:713-1778198400-1778284799@www.goole200.org.uk
SUMMARY:Junction Goole Arting Classes: Enamel Plate Painting
DESCRIPTION:Arting is Junction Goole’s relaxed and sociable series of adult art classes and\, for 2026\, these sessions will have a ‘Goole 200’ theme. \nTwo two-hour sessions take place on each date – one at 3pm and one at 6pm. All materials\, as well as light refreshments and a finished piece to take home\, are provided. Visit the event website for booking details and more information. \nOn Friday 8 May\, participants will design and paint their own enamel plate in a session inspired by the traditional canal boat art seen on Goole’s historic waterways.
URL:https://www.goole200.org.uk/event/junction-goole-arting-classes-enamel-plate-painting/
LOCATION:Junction Goole\, Paradise Place\, Goole\, East Riding of Yorkshire\, DN14 5DL\, United Kingdom
CATEGORIES:Art,Community
ATTACH;FMTTYPE=image/webp:https://www.goole200.org.uk/wp-content/uploads/2026/04/481216583_514705628341662_6977289485062619613_n.webp
ORGANIZER;CN="Junction Goole":MAILTO:info@junctiongoole.co.uk
END:VEVENT
BEGIN:VEVENT
DTSTART;TZID=Europe/London:20260512T110000
DTEND;TZID=Europe/London:20260512T120000
DTSTAMP:20260419T133005
CREATED:20260407T131023Z
LAST-MODIFIED:20260407T131023Z
UID:736-1778583600-1778587200@www.goole200.org.uk
SUMMARY:Baroque Around The Books
DESCRIPTION:Join Sam Brown (lute) and Daniel Thomson (vocals) as they share the music and poetry of Shakespeare’s England as part of a programme entitled Facets Of Time. \nPartnering with East Riding Libraries for the first time\, the National Centre for Early Music (NCEM) is hosting free concerts in four East Riding Libraries during May 2026\, making early music accessible to everyone. \nThis wonderful initiative\, supported by the John Feldberg Foundation\, brings together two things the NCEM deeply passionate about – supporting the careers of young artists and sharing the magic of early music with a wider audience. Baroque Around The Books is an NCEM cultural wellbeing initiative. \nThis free event at Goole Library is suitable for all age groups and has a running time of approximately 30 minutes. No booking is required\, simply turn up on the day. For access information\, please visit Goole Library. \n 
URL:https://www.goole200.org.uk/event/baroque-around-the-books/
LOCATION:Goole Library\, Carlisle Street\, Goole\, East Riding of Yorkshire\, DN14 5DS\, United Kingdom
CATEGORIES:Entertainment,Events for children,Family events,Heritage events,Music
ATTACH;FMTTYPE=image/webp:https://www.goole200.org.uk/wp-content/uploads/2026/04/Baroque-Whats-On-Image-PNG.webp
END:VEVENT
BEGIN:VEVENT
DTSTART;VALUE=DATE:20260515
DTEND;VALUE=DATE:20260516
DTSTAMP:20260419T133005
CREATED:20260407T120204Z
LAST-MODIFIED:20260407T120204Z
UID:717-1778803200-1778889599@www.goole200.org.uk
SUMMARY:Junction Goole Arting Classes: Carafe Painting
DESCRIPTION:Arting is Junction Goole’s relaxed and sociable series of adult art classes and\, for 2026\, these sessions will have a ‘Goole 200’ theme. \nTwo two-hour sessions take place on each date – one at 3pm and one at 6pm. All materials\, as well as light refreshments and a finished piece to take home\, are provided. Visit the event website for booking details and more information. \nOn Friday 15 May\, participants will paint a glass wine carafe\, drawing inspiration from Goole’s trading history.
URL:https://www.goole200.org.uk/event/junction-goole-arting-classes-carafe-painting/
LOCATION:Junction Goole\, Paradise Place\, Goole\, East Riding of Yorkshire\, DN14 5DL\, United Kingdom
CATEGORIES:Art,Community
ATTACH;FMTTYPE=image/webp:https://www.goole200.org.uk/wp-content/uploads/2026/04/481216583_514705628341662_6977289485062619613_n.webp
ORGANIZER;CN="Junction Goole":MAILTO:info@junctiongoole.co.uk
END:VEVENT
BEGIN:VEVENT
DTSTART;VALUE=DATE:20260522
DTEND;VALUE=DATE:20260523
DTSTAMP:20260419T133005
CREATED:20260407T120635Z
LAST-MODIFIED:20260407T120635Z
UID:721-1779408000-1779494399@www.goole200.org.uk
SUMMARY:Junction Goole Arting Classes: Clay Gargoyles
DESCRIPTION:Arting is Junction Goole’s relaxed and sociable series of adult art classes and\, for 2026\, these sessions will have a ‘Goole 200’ theme. \nTwo two-hour sessions take place on each date – one at 3pm and one at 6pm. All materials\, as well as light refreshments and a finished piece to take home\, are provided. Visit the event website for booking details and more information. \nOn Friday 22 May\, participants will sculpt their own Gothic-style gargoyle in clay\, drawing inspiration from St John’s Parish Church in Goole.
URL:https://www.goole200.org.uk/event/junction-goole-arting-classes-clay-gargoyles/
LOCATION:Junction Goole\, Paradise Place\, Goole\, East Riding of Yorkshire\, DN14 5DL\, United Kingdom
CATEGORIES:Art,Community
ATTACH;FMTTYPE=image/webp:https://www.goole200.org.uk/wp-content/uploads/2026/04/481216583_514705628341662_6977289485062619613_n.webp
ORGANIZER;CN="Junction Goole":MAILTO:info@junctiongoole.co.uk
END:VEVENT
BEGIN:VEVENT
DTSTART;VALUE=DATE:20260523
DTEND;VALUE=DATE:20260705
DTSTAMP:20260419T133005
CREATED:20251215T135402Z
LAST-MODIFIED:20260417T130414Z
UID:365-1779494400-1783209599@www.goole200.org.uk
SUMMARY:Goole 200: A History Of Goole In 200 Objects
DESCRIPTION:This exhibition explores two centuries of Goole’s rich history through 200 weird and wonderful objects from Goole Museum’s collections. \nNearly all of the artefacts on display were donated by members of the local community\, so this exhibition is very much a people’s history of Goole. \nSome of these fascinating artefacts tell the story of Goole’s origins and growth as port\, alongside the development of other industries such as shipbuilding\, alum working and clothes manufacturing. Others are more personal\, everyday items and provide a window into childhood\, home-life\, healthcare and recreation in Goole. \nIn contrast\, several objects shed light on the more dramatic episodes in Goole’s past\, including the World Wars and grand public celebrations.  Look out for the ‘spotlight’ objects\, which are artefacts that tell a particularly special story.
URL:https://www.goole200.org.uk/event/goole-200-a-history-of-goole-in-200-objects/
LOCATION:Goole Museum\, Carlisle Street\, Goole\, East Riding of Yorkshire\, DN14 5DS\, United Kingdom
CATEGORIES:Exhibition,Heritage events
ATTACH;FMTTYPE=image/webp:https://www.goole200.org.uk/wp-content/uploads/2025/12/Goole-200.webp
ORGANIZER;CN="East Riding Museums":MAILTO:goole.museum@eastriding.gov.uk
END:VEVENT
END:VCALENDAR