BEGIN:VCALENDAR
VERSION:2.0
PRODID:-//Goole 200  - ECPv6.15.20//NONSGML v1.0//EN
CALSCALE:GREGORIAN
METHOD:PUBLISH
X-ORIGINAL-URL:https://www.goole200.org.uk
X-WR-CALDESC:Events for Goole 200 
REFRESH-INTERVAL;VALUE=DURATION:PT1H
X-Robots-Tag:noindex
X-PUBLISHED-TTL:PT1H
BEGIN:VTIMEZONE
TZID:Europe/London
BEGIN:DAYLIGHT
TZOFFSETFROM:+0000
TZOFFSETTO:+0100
TZNAME:BST
DTSTART:20250330T010000
END:DAYLIGHT
BEGIN:STANDARD
TZOFFSETFROM:+0100
TZOFFSETTO:+0000
TZNAME:GMT
DTSTART:20251026T010000
END:STANDARD
BEGIN:DAYLIGHT
TZOFFSETFROM:+0000
TZOFFSETTO:+0100
TZNAME:BST
DTSTART:20260329T010000
END:DAYLIGHT
BEGIN:STANDARD
TZOFFSETFROM:+0100
TZOFFSETTO:+0000
TZNAME:GMT
DTSTART:20261025T010000
END:STANDARD
BEGIN:DAYLIGHT
TZOFFSETFROM:+0000
TZOFFSETTO:+0100
TZNAME:BST
DTSTART:20270328T010000
END:DAYLIGHT
BEGIN:STANDARD
TZOFFSETFROM:+0100
TZOFFSETTO:+0000
TZNAME:GMT
DTSTART:20271031T010000
END:STANDARD
BEGIN:DAYLIGHT
TZOFFSETFROM:+0000
TZOFFSETTO:+0100
TZNAME:BST
DTSTART:20280326T010000
END:DAYLIGHT
BEGIN:STANDARD
TZOFFSETFROM:+0100
TZOFFSETTO:+0000
TZNAME:GMT
DTSTART:20281029T010000
END:STANDARD
END:VTIMEZONE
BEGIN:VEVENT
DTSTART;TZID=Europe/London:20260704T093000
DTEND;TZID=Europe/London:20270206T164500
DTSTAMP:20260423T234228
CREATED:20260106T100858Z
LAST-MODIFIED:20260106T101630Z
UID:536-1783157400-1801932300@www.goole200.org.uk
SUMMARY:Goole Unboxed: A Bicentenary And Beyond
DESCRIPTION:Between Saturday 4 July 2026 and Saturday 6 February 2027\, visit the ground-floor corridor of the Champney Treasure House to explore the East Riding Archives’ exhibition Goole Unboxed: A Bicentenary And Beyond. \nThe East Riding Archives is marking Goole’s bicentenary as a port town with an exhibition that uncovers its fascinating journey from marshland to modernity\, through treasures from the archive collections. \nEntry is free at the Champney Treasure House.
URL:https://www.goole200.org.uk/event/goole-unboxed-a-bicentenary-and-beyond/
LOCATION:Champney Treasure House\, Champney Road\, Beverley\, East Yorkshire\, HU17 8HE\, United Kingdom
CATEGORIES:Exhibition,Heritage events
ATTACH;FMTTYPE=image/webp:https://www.goole200.org.uk/wp-content/uploads/2026/01/Treasure-House-Beverley-c-ERYC.webp
END:VEVENT
BEGIN:VEVENT
DTSTART;VALUE=DATE:20260717
DTEND;VALUE=DATE:20261026
DTSTAMP:20260423T234228
CREATED:20251215T140608Z
LAST-MODIFIED:20251215T140608Z
UID:373-1784246400-1792972799@www.goole200.org.uk
SUMMARY:Reuben Chappell: Master Of The Masts
DESCRIPTION:This landmark exhibition celebrates the life and work of Reuben Chappell (1870-1940)\, a Goole-born artist internationally recognised as one of the finest ship portraitists of the pierhead painting tradition. Featuring over 40 of his works\, many of which have never been on public display\, the exhibition explores the fascinating features of Chappell’s compositions and how he captured some of the greatest shifts in maritime technology\, including the transition from wood to steel and the replacement of sail by steam. The dramatic and often tragic stories behind the vessels and their crews are also told. The exhibition also tells the story of Chappell’s journey as an artist and devoted family man\, from his humble childhood origins around Goole’s bustling docks to his relocation to the wild and rugged coast of Cornwall\, where his work continued through war and personal struggles. 
URL:https://www.goole200.org.uk/event/reuben-chappell-master-of-the-masts/
LOCATION:Goole Museum\, Carlisle Street\, Goole\, East Riding of Yorkshire\, DN14 5DS\, United Kingdom
CATEGORIES:Art,Exhibition,Heritage events
ATTACH;FMTTYPE=image/webp:https://www.goole200.org.uk/wp-content/uploads/2025/12/Reuben-Chappell-Cutty-Sark.webp
ORGANIZER;CN="East Riding Museums":MAILTO:goole.museum@eastriding.gov.uk
END:VEVENT
BEGIN:VEVENT
DTSTART;VALUE=DATE:20260801
DTEND;VALUE=DATE:20260802
DTSTAMP:20260423T234228
CREATED:20251217T103143Z
LAST-MODIFIED:20251217T103143Z
UID:434-1785542400-1785628799@www.goole200.org.uk
SUMMARY:Yorkshire Day Celebrations
DESCRIPTION:To coincide with Goole’s bicentenary year\, the town will be a focus for this year’s Yorkshire Day celebrations. More information will be shared nearer the time.
URL:https://www.goole200.org.uk/event/yorkshire-day-celebrations/
LOCATION:To be confirmed
CATEGORIES:Civic events
ATTACH;FMTTYPE=image/webp:https://www.goole200.org.uk/wp-content/uploads/2025/12/goole-clock-tower.webp
END:VEVENT
BEGIN:VEVENT
DTSTART;TZID=Europe/London:20260822T183000
DTEND;TZID=Europe/London:20260822T200000
DTSTAMP:20260423T234228
CREATED:20260407T135609Z
LAST-MODIFIED:20260407T135745Z
UID:750-1787423400-1787428800@www.goole200.org.uk
SUMMARY:Castaway Film Celebration
DESCRIPTION:Join the Castaway Film Group Come for the premiere of their most recent work celebrating Goole and its unique characters. \nThere will also be a nostalgic look back at some key films the group have created together over the last 15 years and a question-and-answer session with the filmmakers. Refreshments will be available. \nFor tickets and more information\, click here.
URL:https://www.goole200.org.uk/event/castaway-film-celebration/
LOCATION:Castaway Music Theatre\, Estcourt Street\, Goole\, East Riding of Yorkshire\, DN14 5AS\, United Kingdom
CATEGORIES:Community,Entertainment,Film showing
ATTACH;FMTTYPE=image/webp:https://www.goole200.org.uk/wp-content/uploads/2026/04/109464-17750321647191-s.webp
ORGANIZER;CN="Castaway Theatre Company":MAILTO:castawayofficehelp@gmail.com
END:VEVENT
BEGIN:VEVENT
DTSTART;TZID=Europe/London:20260830T120000
DTEND;TZID=Europe/London:20260830T200000
DTSTAMP:20260423T234228
CREATED:20251215T130126Z
LAST-MODIFIED:20260408T085119Z
UID:330-1788091200-1788120000@www.goole200.org.uk
SUMMARY:Music In The Park
DESCRIPTION:Join Friends of West Park for a day of family-friendly fun and musical entertainment in the picturesque surroundings of West Park. With a varied programme of musical entertainment\, there’s something to suit all ages and tastes. More information will be available nearer the time.
URL:https://www.goole200.org.uk/event/music-in-the-park/
LOCATION:West Park\, Airmyn Road\, Goole\, DN14 6UU\, United Kingdom
CATEGORIES:Community,Entertainment,Family events,Music
ATTACH;FMTTYPE=image/webp:https://www.goole200.org.uk/wp-content/uploads/2025/12/Music-in-the-park.webp
ORGANIZER;CN="Friends of West Park":MAILTO:friendsofwestpark@outlook.com
END:VEVENT
END:VCALENDAR